BEGIN:VCALENDAR
VERSION:2.0
PRODID:-//FRSA - ECPv4.9.7//NONSGML v1.0//EN
CALSCALE:GREGORIAN
METHOD:PUBLISH
X-WR-CALNAME:FRSA
X-ORIGINAL-URL:https://frsa.org.au
X-WR-CALDESC:Events for FRSA
BEGIN:VTIMEZONE
TZID:"Australia/Sydney"
BEGIN:STANDARD
TZOFFSETFROM:+1100
TZOFFSETTO:+1000
TZNAME:AEST
DTSTART:20250405T160000
END:STANDARD
BEGIN:DAYLIGHT
TZOFFSETFROM:+1000
TZOFFSETTO:+1100
TZNAME:AEDT
DTSTART:20251004T160000
END:DAYLIGHT
END:VTIMEZONE
BEGIN:VEVENT
DTSTART;TZID="Australia/Sydney":20250718T090000
DTEND;TZID="Australia/Sydney":20250718T121500
DTSTAMP:20260424T095121
CREATED:20250707T003707Z
LAST-MODIFIED:20250707T003707Z
UID:33895-1752829200-1752840900@frsa.org.au
SUMMARY:1-2-3 Magic® & Emotion Coaching Adapted for Special Needs for Professionals | WEBINAR
DESCRIPTION:The 1-2-3 Magic® & Emotion Coaching Adapted for Special Needs module is grounded in two key principles: first\, that children can learn to respond more adaptively when frustrated or upset\, and second\, that parents and caregivers can acquire simple\, effective skills for specific parenting situations. This specialised adaptation is designed for family specialists working with parents and caregivers of children with special needs. The professional training includes tailored role-plays\, group discussions\, worksheets\, and videos to meet the unique needs of this audience. \nAttendees must be a certified 1-2-3 Magic® & Emotion Coaching parent educator. CLICK HERE to register for the 1-2-3 Magic® & Emotion Coaching training. \nLive webinar| 18th July \nPresenter  \nSally Learey\nParentshop Consultant \nSally Learey is a keynote speaker\, author and education consultant. She holds qualifications in teaching\, training\, positive psychology\, coaching and counselling. Sally has 30 years combined experience working across adult training\, parent education\, primary and secondary teaching and workshop and conference presenting. \n  \n
URL:https://frsa.org.au/event/1-2-3-magic-emotion-coaching-adapted-for-special-needs-for-professionals-webinar
LOCATION:ONLINE WEBINAR VIA ZOOM\, Australia
CATEGORIES:Children,Corporate Day,Couples Training,Member Event,Parent Education,Professional Training,Staff/Team,Webinar
ATTACH;FMTTYPE=image/png:https://frsa.org.au/wp-content/uploads/2025/07/Upcoming-Course-Pictures-Banners-3.png
ORGANIZER;CN="Parentshop%20Pty%20Ltd":MAILTO:service@parentshop.com.au
END:VEVENT
END:VCALENDAR