BEGIN:VCALENDAR
VERSION:2.0
PRODID:-//FRSA - ECPv4.9.7//NONSGML v1.0//EN
CALSCALE:GREGORIAN
METHOD:PUBLISH
X-WR-CALNAME:FRSA
X-ORIGINAL-URL:https://frsa.org.au
X-WR-CALDESC:Events for FRSA
BEGIN:VTIMEZONE
TZID:"Australia/Sydney"
BEGIN:STANDARD
TZOFFSETFROM:+1100
TZOFFSETTO:+1000
TZNAME:AEST
DTSTART:20230401T160000
END:STANDARD
BEGIN:DAYLIGHT
TZOFFSETFROM:+1000
TZOFFSETTO:+1100
TZNAME:AEDT
DTSTART:20230930T160000
END:DAYLIGHT
END:VTIMEZONE
BEGIN:VEVENT
DTSTART;VALUE=DATE:20230901
DTEND;VALUE=DATE:20230902
DTSTAMP:20260423T113838
CREATED:20230719T004324Z
LAST-MODIFIED:20230719T004324Z
UID:24686-1693526400-1693612799@frsa.org.au
SUMMARY:1-2-3 Magic® & Emotion Coaching\, Special Needs Adaptation for Child & Family Specialists
DESCRIPTION:1-2-3 Magic® & Emotion Coaching Adapted for Special Needs for Professionals\n1-2-3 Magic® & Emotion Coaching is based on two underlying perspectives: first\, that children can be taught to respond more flexibly when they are frustrated or upset and second\, that parents and carers can be taught easy-to-use skills they can use at particular parenting moments. This adaptation of the 1-2-3 Magic® & Emotion Coaching program is tailored towards family specialists that work with parents and carers of children with special needs. The professional training includes role-play\, group discussion\, worksheets and videos tailored to this audience. \n
URL:https://frsa.org.au/event/1-2-3-magic-emotion-coaching-special-needs-adaptation-for-child-family-specialists
LOCATION:Online\, Select a Country:
CATEGORIES:Adolescents,Children,Corporate Day,Post Traumatic Stress,Professional Training,Staff/Team,Webinar
ATTACH;FMTTYPE=image/png:https://frsa.org.au/wp-content/uploads/2023/07/Green-and-Black-Dark-Professional-Static-Quote-General-News-Twitter-Post-2.png
ORGANIZER;CN="Parentshop%20Pty%20Ltd":MAILTO:service@parentshop.com.au
END:VEVENT
END:VCALENDAR