BEGIN:VCALENDAR
VERSION:2.0
PRODID:-//FRSA - ECPv4.9.7//NONSGML v1.0//EN
CALSCALE:GREGORIAN
METHOD:PUBLISH
X-WR-CALNAME:FRSA
X-ORIGINAL-URL:https://frsa.org.au
X-WR-CALDESC:Events for FRSA
BEGIN:VTIMEZONE
TZID:"Australia/Sydney"
BEGIN:STANDARD
TZOFFSETFROM:+1100
TZOFFSETTO:+1000
TZNAME:AEST
DTSTART:20210403T160000
END:STANDARD
BEGIN:DAYLIGHT
TZOFFSETFROM:+1000
TZOFFSETTO:+1100
TZNAME:AEDT
DTSTART:20211002T160000
END:DAYLIGHT
END:VTIMEZONE
BEGIN:VEVENT
DTSTART;TZID="Australia/Sydney":20210603T083000
DTEND;TZID="Australia/Sydney":20210603T163000
DTSTAMP:20260423T142403
CREATED:20210218T052007Z
LAST-MODIFIED:20210218T052045Z
UID:15563-1622709000-1622737800@frsa.org.au
SUMMARY:1-2-3 Magic® & Emotion Coaching | WEBINAR
DESCRIPTION:1-2-3 Magic® & Emotion Coaching is a one-day professional learning course to equips you with the skills to manage children’s difficult behaviour. \n1-2-3 Magic® & Emotion Coaching is based on two underlying perspectives on parenting: first\, that children can be taught to respond more flexibly when they are frustrated or upset and second\, that parents and carers can be taught easy-to-use skills they can use at particular parenting moments. The professional training includes role-play\, group discussion\, worksheets and videos. \nCourses available via webinar and face to face all around Australia\, see website for more information. \nRefresher prices available for webinar and face to face. \nCertification – a new way of working starting in 2021\nTo become a certified parent educator\, you’ll be provided with additional resources needed in order to present to parents. This ensures that our product is only being taught at the highest quality. There are several benefits in becoming certified:\nCertification is renewed each year. certification is $69 per person for the first year \, thereafter there will be a $49 membership fee charged annually to remain a certified parent educator. \n
URL:https://frsa.org.au/event/1-2-3-magic-emotion-coaching-webinar-copy-3
LOCATION:WEBINAR\, Australia
CATEGORIES:Children,Parent Education,Professional Training,Webinar
ORGANIZER;CN="Parentshop%20Pty%20Ltd":MAILTO:service@parentshop.com.au
END:VEVENT
END:VCALENDAR