BEGIN:VCALENDAR
VERSION:2.0
PRODID:-//FRSA - ECPv4.9.7//NONSGML v1.0//EN
CALSCALE:GREGORIAN
METHOD:PUBLISH
X-WR-CALNAME:FRSA
X-ORIGINAL-URL:https://frsa.org.au
X-WR-CALDESC:Events for FRSA
BEGIN:VTIMEZONE
TZID:"Australia/Sydney"
BEGIN:STANDARD
TZOFFSETFROM:+1100
TZOFFSETTO:+1000
TZNAME:AEST
DTSTART:20260404T160000
END:STANDARD
BEGIN:DAYLIGHT
TZOFFSETFROM:+1000
TZOFFSETTO:+1100
TZNAME:AEDT
DTSTART:20261003T160000
END:DAYLIGHT
END:VTIMEZONE
BEGIN:VEVENT
DTSTART;TZID="Australia/Sydney":20260224T130000
DTEND;TZID="Australia/Sydney":20260224T160000
DTSTAMP:20260423T125525
CREATED:20250930T023623Z
LAST-MODIFIED:20250930T023623Z
UID:34752-1771938000-1771948800@frsa.org.au
SUMMARY:A DEVELOPING BRAIN - Traralgon
DESCRIPTION:Supporting Whole Child Development\nDesigned specifically for early childhood settings\, this workshop explores the recent developments in neuroscience that have given us remarkable insight into the conditions and experiences that can dramatically influence the growth and development of all young children in positive and enduring ways. Early childhood is a particularly critical time for the developing brain\, and the early childhood environment is rich with the necessary experiences and relationships to support children in their development\, behaviour\, learning\, and social and emotional well-being. The relationships and experiences children are exposed to in their earliest years\, will influence the neural foundations upon which their growth and development is built. This dynamic workshop will explore these conditions\, and ways early childhood professionals can translate this knowledge into practice to nurture the holistic development of all children. \nThe workshop will cover: \n\nhow the brain develops and how the experiences and relationships children are exposed to in early childhood will influence behaviour\, learning\, regulation\, social and emotional development\, and general well-being;\nthe relationships and experiences children need during early childhood to optimise learning\, and behavioural\, social\, and emotional development;\nthe strategies that can be used at a group or individual level to support the building of strong neural foundations in all young children;\nusing neuroscience to respond effectively to tantrums\, big behaviour\, and ‘big feelings’;\nlooking behind big behaviour – an easy\, practical way to understand behaviour through a neuroscientific lens\, and the importance of translating this into all early childhood practices;\nhow to nurture emotional self-regulation in children;\nwhy many common behaviour management techniques don’t work\, their impact on the developing brain\, and what to do instead;\nthe importance of attachment in building the strong neural foundations for essential areas of development including the ability to form meaningful relationships\, emotional regulation\, joy\, empathy\, independence\, and resilience;\nhow to activate attachment systems;\nthe impact of trauma on the developing brain\, specifically in relation to learning\, relationships\, social and emotional development\, behaviour;\nthe relational conditions and experiences that can protect and strengthen young children who have experienced trauma.\n\nWorkshop includes: \n\nCatering\nA copy of the Dear You\, Love From Your Brain book valued at $19.99\nLesson plan (early childhood)\nCPD certificate\n\nTarget audience: Early childhood educators\, support staff\, and all professionals who support them including occupational therapists\, social workers\, school counsellors\, psychologists\, early childhood specialists. \nThis workshop is approved for the School Readiness Funding Menu. This workshop can also be delivered In-house at your early childcare centre: $4840.00 (GST Included) and associated travel costs between $1000.00 – $1600.00 depending on your location for a maximum of 25 participants. Contact us to ask how. \nPresenter: Karen Young founded the popular website\, Hey Sigmund\, attracting millions of readers each year worldwide and is author of the best selling Hey Warrior book for young people with anxiety. She is a regular contributor to Parenting Magazine in New Zealand\, and can often be heard on Australian radio and TV programs such as The Project and the ABC. Her articles have been translated into a numerous languages and her work has been published internationally. She is a sought-after international speaker to sold out events from New York to Newcastle. She has authored four books for kids and parents to help them understand anxiety and neuroscience. Karen translates the neuroscience of anxiety and every day life into meaningful advice for all ages. \n
URL:https://frsa.org.au/event/a-developing-brain-traralgon
LOCATION:Mantra Traralgon\, 192 Franklin Street\, TRARALGON\, VIC\, 3844\, Australia
CATEGORIES:Children,Professional Training,Staff/Team
ATTACH;FMTTYPE=image/png:https://frsa.org.au/wp-content/uploads/2025/09/9AE2D57A-9DB0-45D1-BBD86E461B20E7A6-listing-natural-large-2-1.png
ORGANIZER;CN="Compass%20Seminars":MAILTO:office@compassaustralia.com.au
END:VEVENT
END:VCALENDAR