BEGIN:VCALENDAR
VERSION:2.0
PRODID:-//FRSA - ECPv4.9.7//NONSGML v1.0//EN
CALSCALE:GREGORIAN
METHOD:PUBLISH
X-WR-CALNAME:FRSA
X-ORIGINAL-URL:https://frsa.org.au
X-WR-CALDESC:Events for FRSA
BEGIN:VTIMEZONE
TZID:"Australia/Sydney"
BEGIN:STANDARD
TZOFFSETFROM:+1100
TZOFFSETTO:+1000
TZNAME:AEST
DTSTART:20210403T160000
END:STANDARD
BEGIN:DAYLIGHT
TZOFFSETFROM:+1000
TZOFFSETTO:+1100
TZNAME:AEDT
DTSTART:20211002T160000
END:DAYLIGHT
END:VTIMEZONE
BEGIN:VEVENT
DTSTART;VALUE=DATE:20210607
DTEND;VALUE=DATE:20210608
DTSTAMP:20260423T123547
CREATED:20210106T040743Z
LAST-MODIFIED:20210324T060956Z
UID:15428-1623024000-1623110399@frsa.org.au
SUMMARY:Child Inclusive Practice Forum 2021
DESCRIPTION:The 2021 Child Inclusive Practice (CIP) Forum Expanding the lens: Child inclusion and vulnerable children gives us the chance to think how children’s lives intersect with decision making situations\, when families can be quite lost and to hear children’s decisions when their voice can be lost. Voice of the child – hearing the child’s view\, represent the developmental view/impact of the children. \nThe Child Inclusive Practice (CIP) Forum is a biennial event that brings together mediators\, social workers\, psychologists and counsellors that work to keep the best interests of children at the forefront of Family Dispute Resolution (mediation). The purpose of the Forum is to enrich the practice of these specialists through learning and networking. The event is organised by FRSA with assistance of the CIP network. \nThe CIP Forum will now be held in an online format on 7 June 2021. \n
URL:https://frsa.org.au/event/child-inclusive-practice-forum-2021
LOCATION:ONLINE
CATEGORIES:Conference
END:VEVENT
END:VCALENDAR