BEGIN:VCALENDAR
VERSION:2.0
PRODID:-//FRSA - ECPv4.9.7//NONSGML v1.0//EN
CALSCALE:GREGORIAN
METHOD:PUBLISH
X-WR-CALNAME:FRSA
X-ORIGINAL-URL:https://frsa.org.au
X-WR-CALDESC:Events for FRSA
BEGIN:VTIMEZONE
TZID:"Australia/Sydney"
BEGIN:STANDARD
TZOFFSETFROM:+1100
TZOFFSETTO:+1000
TZNAME:AEST
DTSTART:20260404T160000
END:STANDARD
BEGIN:DAYLIGHT
TZOFFSETFROM:+1000
TZOFFSETTO:+1100
TZNAME:AEDT
DTSTART:20261003T160000
END:DAYLIGHT
END:VTIMEZONE
BEGIN:VEVENT
DTSTART;VALUE=DATE:20260715
DTEND;VALUE=DATE:20260717
DTSTAMP:20260424T094355
CREATED:20251205T021305Z
LAST-MODIFIED:20251205T021602Z
UID:35670-1784073600-1784246399@frsa.org.au
SUMMARY:Effective Group Leadership Course
DESCRIPTION:Effective Group Leadership is a 2-day workshop which develops the necessary skills for group leaders to facilitate creative group work. The training covers the principles of using creative group work techniques and tools. The focus includes changing group dynamics\, increased understanding of motivational group work models for change and the use of practical creative exercises. All participants receive a Group Leadership Skills Report on their strengths and areas for development plus a copy of Continual Change Groupwork: Being an effective group leader (2023) Edition 2. \n  \nEffective leadership is a powerful phenomenon that uses a group leader’s own self confidence and belief systems. This workshop explores the belief systems and interpersonal communication needed by leaders to create vision\, hope and a common purpose that unites the energy of the group members. The group leader’s subtle body language and self-presentation skills will be explored as they will impact on ultimate achievement of group members’ goals. \n  \nLearning Outcomes – Participants will: \n\nexplore the use of group facilitation skills\nidentify and practice the key skills used in facilitating strengths based group work\nuse experiential learning and creative adult education principles\nuse multi-sensory tools to increase motivation and support change\nrespond effectively to group dynamics and how to promote individual and group change\npractice strengths-based group work when responding to existing trauma\ndevelop skills in using flexibility in leadership roles\nunderstand key tasks/attitudinal responses that leaders attend to in the group\ndevelop their group leadership presence.\n\n
URL:https://frsa.org.au/event/effective-group-leadership-course-3
LOCATION:RANSW Parramatta Centre\, Level 6 / 126 Church Street\, Parramatta\, NSW\, 2150\, Parramatta\, NSW\, 2150\, Australia
CATEGORIES:Professional Training
ATTACH;FMTTYPE=image/jpeg:https://frsa.org.au/wp-content/uploads/2025/12/Group-image-1.jpg
ORGANIZER;CN="Andrew%20King":MAILTO:info@groupworksolutions.com.au
END:VEVENT
END:VCALENDAR