BEGIN:VCALENDAR
VERSION:2.0
PRODID:-//FRSA - ECPv4.9.7//NONSGML v1.0//EN
CALSCALE:GREGORIAN
METHOD:PUBLISH
X-WR-CALNAME:FRSA
X-ORIGINAL-URL:https://frsa.org.au
X-WR-CALDESC:Events for FRSA
BEGIN:VTIMEZONE
TZID:"Australia/Sydney"
BEGIN:STANDARD
TZOFFSETFROM:+1100
TZOFFSETTO:+1000
TZNAME:AEST
DTSTART:20210403T160000
END:STANDARD
BEGIN:DAYLIGHT
TZOFFSETFROM:+1000
TZOFFSETTO:+1100
TZNAME:AEDT
DTSTART:20211002T160000
END:DAYLIGHT
END:VTIMEZONE
BEGIN:VEVENT
DTSTART;TZID="Australia/Sydney":20210607T093000
DTEND;TZID="Australia/Sydney":20210607T133000
DTSTAMP:20260423T142230
CREATED:20201224T014720Z
LAST-MODIFIED:20201224T014720Z
UID:15409-1623058200-1623072600@frsa.org.au
SUMMARY:Online Workshop: Supporting Separated Families
DESCRIPTION:This workshop is designed for workers in community and health organisations and schools who regularly work with children\, adolescents and/or their parents. When parents separate\, it can be a difficult time for them and their children. It is normal for separating families to experience a range of strong emotions and families often need to adjust to new living arrangements. \nIn this workshop\, you will learn about the separation process\, how it impacts on parents and children and how you can assist parents\, children and adolescents to manage this change within your work setting. \nLearning outcomes \nBy the end of this workshop\, participants will be able to: \n\ndemonstrate knowledge of the separation process and the impact on families and children\ndemonstrate knowledge of the family law system and family dispute resolution.\ndevelop an ability to identify behaviours in children resulting from separation and strategies to manage these behaviours.\ndevelop in supporting parents to better manage their separation and support their children\ndevelop the ability to identify when families need more support.\n\nIdeal for \nCommunity organisation workers\, school staff\, health professionals\, youth workers\, child and family workers\, and counsellors. \n
URL:https://frsa.org.au/event/online-workshop-supporting-separated-families
LOCATION:ONLINE
CATEGORIES:Professional Training
END:VEVENT
END:VCALENDAR