BEGIN:VCALENDAR
VERSION:2.0
PRODID:-//FRSA - ECPv4.9.7//NONSGML v1.0//EN
CALSCALE:GREGORIAN
METHOD:PUBLISH
X-WR-CALNAME:FRSA
X-ORIGINAL-URL:https://frsa.org.au
X-WR-CALDESC:Events for FRSA
BEGIN:VTIMEZONE
TZID:"Australia/Sydney"
BEGIN:STANDARD
TZOFFSETFROM:+1100
TZOFFSETTO:+1000
TZNAME:AEST
DTSTART:20190406T160000
END:STANDARD
BEGIN:DAYLIGHT
TZOFFSETFROM:+1000
TZOFFSETTO:+1100
TZNAME:AEDT
DTSTART:20191005T160000
END:DAYLIGHT
END:VTIMEZONE
BEGIN:VEVENT
DTSTART;TZID="Australia/Sydney":20190719T093000
DTEND;TZID="Australia/Sydney":20190719T160000
DTSTAMP:20260424T083935
CREATED:20190423T001448Z
LAST-MODIFIED:20190424T120349Z
UID:10152-1563528600-1563552000@frsa.org.au
SUMMARY:PREPARE/ENRICH Core and Going Deeper Training VIC (Blackburn North) July 2019 (Day 1)
DESCRIPTION:The Core Training Day includes all aspects of the Customised Version necessary to enable and accredit the Facilitator to use the material immediately. \nThe fee covers the programmed two-day arrangement. It is preferable when the Core and Going Deeper Training days are run consecutively\, that participants attend both days. If that is not feasible or is not available\, you can attend the Going Deeper Training day within 12 months from the Core Training workshop\, as advertised on this website. \nThe Going Deeper Day is a follow-up and consolidation day. It includes skills training and practice opportunities for working with feedback techniques and workbook exercises. The day covers selected content and processes relevant to working with step-families\, mature age couples and conflicted couples. \nIt may be taken when registering as part of a programmed two-day arrangement\, or if that is not feasible or is not available\, on a day to be selected (within 12 months) from the Core Training workshop\, as advertised on this website. \nAgenda: \n\nJuly 19\, 9.30am – 4.00pm: The Core Training Day\nJuly 26\, 9.30am – 3.30pm: The Going Deeper Training Day\n\nThe Core Training Day is a prerequisite to the Going Deeper Day. \nWho may train to administer the inventories? \nPersons working with couples (eg. marriage celebrants\, educators\, counsellors) who already have formal training as a – \n\nPastor/priest/minister/rabbi.\nCounsellor/Psychologist\nEducator\nSocial Worker\nA worker trained in another relevant human resource discipline\n\nand – \n\nLay people\, who also have training in the above areas\, nominated by\, approved by\, and supervised by and accountable to leaders of the institution (eg. clergy\, pastors\, priests) within which they will work. We are prepared to train such individuals and couples but they need to be selected and nominated with care.  Just because they are church members and have participated in a PREPARE/ENRICH program as part of their own preparation for marriage is not a sufficient qualification. It is important to consider their knowledge and skills.\n\n\nAn Early Bird Discount of 10% is available if you register and pay up to 30-days prior to Facilitator Training. Not available for accompanying spouse. Enter code upon checkout: E0G406E55PAT\n\n\nCore and Going Deeper Training spouse option available\n\nPlease refer to full the terms and conditions including the cancellation policy here: www.prepare-enrich.com.au/terms-conditions\n
URL:https://frsa.org.au/event/prepare-enrich-core-and-going-deeper-training-vic-blackburn-north-july-2019/2019-07-19
LOCATION:St Alfreds Anglican Church\, 107 Springfield Rd\, Blackburn North\, VIC\, 3130\, Australia
CATEGORIES:Professional Training
ORGANIZER;CN="Mandi%20Smith":MAILTO:mandi@prepare-enrich.com.au
END:VEVENT
END:VCALENDAR