BEGIN:VCALENDAR
VERSION:2.0
PRODID:-//FRSA - ECPv4.9.7//NONSGML v1.0//EN
CALSCALE:GREGORIAN
METHOD:PUBLISH
X-WR-CALNAME:FRSA
X-ORIGINAL-URL:https://frsa.org.au
X-WR-CALDESC:Events for FRSA
BEGIN:VTIMEZONE
TZID:"Australia/Sydney"
BEGIN:STANDARD
TZOFFSETFROM:+1100
TZOFFSETTO:+1000
TZNAME:AEST
DTSTART:20230401T160000
END:STANDARD
BEGIN:DAYLIGHT
TZOFFSETFROM:+1000
TZOFFSETTO:+1100
TZNAME:AEDT
DTSTART:20230930T160000
END:DAYLIGHT
END:VTIMEZONE
BEGIN:VEVENT
DTSTART;VALUE=DATE:20230825
DTEND;VALUE=DATE:20230826
DTSTAMP:20260423T113607
CREATED:20230713T044807Z
LAST-MODIFIED:20230713T044807Z
UID:24609-1692921600-1693007999@frsa.org.au
SUMMARY:Working With High Conflict People - Masterclass
DESCRIPTION:High conflict people (HCP) have a pattern of high-conflict behaviour that increases conflict rather than reducing or resolving it.  This pattern typically repeats in many different situations with many different people. \nWhen high-conflict personalities are involved\, more preparation is necessary to facilitate a successful result. \nIn this Masterclass the insights and real-life experiences shared by our trainers will provide you with the confidence to recognise HCP patterns of behaviour and ways to respond constructively \nHere are some reasons why you should consider attending this masterclass: \n\nEnhance your skills: This masterclass will provide you with hands-on training and practical exercises to help you improve your skills in working with high conflict individuals. You’ll learn how to manage emotions\, foster collaboration\, and address power dynamics in a professional and effective manner.\n\n  \n\nResults: By attending this masterclass\, you’ll gain the experience\, skills and strategies specifically designed to manage a high level of conflict\, and have confidence in your ability to help parties reach a mutually acceptable resolution. This will not only benefit your clients\, but also enhance your reputation as a professional mediator.\n\n  \n\nNetwork with peers: Attending this masterclass is also a great opportunity to network with other mediators and to exchange ideas and experiences. You’ll have the chance to collaborate with others\, share your own expertise\, and gain new perspectives.\n\n  \n\nLearn from experts: Linda Kochanski\, Robyn Hooworth\, and Bobbi Reilly are experienced mediators with extensive experience in working with high conflict individuals.  You’ll benefit from their insights\, strategies\, and specific techniques for handling these types of cases effectively.\n\n  \nClick on the link below and get the tools and skills to anticipate and respond confidently in high-pressure situations. \nYour Trainers: \nGPD trainers are leading dispute resolution specialists whose training\, teaching\, and research expertise places them at the forefront of current industry theory and practice. \nEach of your trainers is a practicing mediator/FDRP and use the skills they teach in their own practices every day. \n
URL:https://frsa.org.au/event/working-with-high-conflict-people-masterclass
CATEGORIES:Mediation,Professional Training
ATTACH;FMTTYPE=image/jpeg:https://frsa.org.au/wp-content/uploads/2023/07/pexels-yan-krukau-7640830-scaled.jpg
ORGANIZER;CN="Global%20Training%20and%20Professional%20Development":MAILTO:info@gpdtraining.com.au
END:VEVENT
END:VCALENDAR